BEGIN:VCALENDAR
VERSION:2.0
PRODID:Events Booking
BEGIN:VEVENT
UID:68dc8eb1e46e3
SUMMARY:Reunión de primavera del Grupo de Estudio de Enfermedades Neuromus
 culares de la SEN
DESCRIPTION:
LOCATION:Madrid
DTSTART:20250505T000000Z
DTEND:20250506T000000Z
DTSTAMP:20250407T125546Z
ORGANIZER;CN=Sociedad Española de Neurología:MAILTO:web.sen@sen.org.es
GEO:40.4165;-3.70256
X-APPLE-STRUCTURED-LOCATION;VALUE=URI;X-ADDRESS=Madrid;X-APPLE-RADIUS=72;X-
 TITLE=Madrid:40.4165;-3.70256
END:VEVENT
END:VCALENDAR