BEGIN:VCALENDAR
VERSION:2.0
PRODID:Events Booking
BEGIN:VEVENT
UID:68dc80882f6f5
SUMMARY:2025 Joint pre-ECTRIMS course
DESCRIPTION:
 Más información
 
 Localización&nbsp\;SB Diagonal Zero 
 Hotel\, Barcelona
LOCATION:Barcelona
DTSTART:20250923T000000Z
DTEND:20250923T000000Z
DTSTAMP:20250624T061600Z
ORGANIZER;CN=Sociedad Española de Neurología:MAILTO:web.sen@sen.org.es
GEO:41.384247;2.176349
X-APPLE-STRUCTURED-LOCATION;VALUE=URI;X-ADDRESS=Barcelona;X-APPLE-RADIUS=72
 ;X-TITLE=Barcelona:41.384247;2.176349
END:VEVENT
END:VCALENDAR